BEGIN:VCALENDAR
VERSION:2.0
PRODID:-//TAX TEAM - ECPv6.15.13.1//NONSGML v1.0//EN
CALSCALE:GREGORIAN
METHOD:PUBLISH
X-WR-CALNAME:TAX TEAM
X-ORIGINAL-URL:https://taxteam.co.nz
X-WR-CALDESC:Events for TAX TEAM
REFRESH-INTERVAL;VALUE=DURATION:PT1H
X-Robots-Tag:noindex
X-PUBLISHED-TTL:PT1H
BEGIN:VTIMEZONE
TZID:UTC
BEGIN:STANDARD
TZOFFSETFROM:+0000
TZOFFSETTO:+0000
TZNAME:UTC
DTSTART:20190101T000000
END:STANDARD
END:VTIMEZONE
BEGIN:VEVENT
DTSTART;VALUE=DATE:20200907
DTEND;VALUE=DATE:20201001
DTSTAMP:20260424T183823
CREATED:20200910T041444Z
LAST-MODIFIED:20200910T042329Z
UID:1738-1599436800-1601510399@taxteam.co.nz
SUMMARY:MEET US AT CORNER Hitchen Rd and Gateway Park Dr\, Pokeno\, Auckland
DESCRIPTION:Come in\, meet us and have chat. \nWe are parked at outside of Zion Motorhomes Ltd at Pokeno.
URL:https://taxteam.co.nz/event/meet-us-at-corner-hitchen-rd-and-gateway-park-dr-pokeno-auckland/
LOCATION:CORNER HITCHEN RD AND GATEWAY PARK DR\, POKENO\, AUCKLAND\, 50 Gateway Park Drive\, Waikato\, Waikato\, 2402\, New Zealand
END:VEVENT
END:VCALENDAR