BEGIN:VCALENDAR
VERSION:2.0
PRODID:-//TAX TEAM - ECPv6.15.13.1//NONSGML v1.0//EN
CALSCALE:GREGORIAN
METHOD:PUBLISH
X-WR-CALNAME:TAX TEAM
X-ORIGINAL-URL:https://taxteam.co.nz
X-WR-CALDESC:Events for TAX TEAM
REFRESH-INTERVAL;VALUE=DURATION:PT1H
X-Robots-Tag:noindex
X-PUBLISHED-TTL:PT1H
BEGIN:VTIMEZONE
TZID:UTC
BEGIN:STANDARD
TZOFFSETFROM:+0000
TZOFFSETTO:+0000
TZNAME:UTC
DTSTART:20190101T000000
END:STANDARD
END:VTIMEZONE
BEGIN:VEVENT
DTSTART;TZID=UTC:20201012T080000
DTEND;TZID=UTC:20201101T170000
DTSTAMP:20260424T143508
CREATED:20201016T080347Z
LAST-MODIFIED:20201016T081952Z
UID:1754-1602489600-1604250000@taxteam.co.nz
SUMMARY:MEET US at Taumanu Reserve\, 30 Seacliffe Road\, Hillsborough\, Auckland
DESCRIPTION:Come in\, meet us and have chat. \nWe are parked at Taumanu Reserve car park.
URL:https://taxteam.co.nz/event/meet-us-at-taumanu-reserve-30-seacliffe-road-hillsborough-auckland/
LOCATION:Taumanu Reserve\, 30 Seacliffe Road\, Hillsborough\, Auckland\, Auckland\, 1061\, New Zealand
ORGANIZER;CN="Tax Team":MAILTO:admin@taxteam.co.nz
END:VEVENT
BEGIN:VEVENT
DTSTART;VALUE=DATE:20200907
DTEND;VALUE=DATE:20201001
DTSTAMP:20260424T143508
CREATED:20200910T041444Z
LAST-MODIFIED:20200910T042329Z
UID:1738-1599436800-1601510399@taxteam.co.nz
SUMMARY:MEET US AT CORNER Hitchen Rd and Gateway Park Dr\, Pokeno\, Auckland
DESCRIPTION:Come in\, meet us and have chat. \nWe are parked at outside of Zion Motorhomes Ltd at Pokeno.
URL:https://taxteam.co.nz/event/meet-us-at-corner-hitchen-rd-and-gateway-park-dr-pokeno-auckland/
LOCATION:CORNER HITCHEN RD AND GATEWAY PARK DR\, POKENO\, AUCKLAND\, 50 Gateway Park Drive\, Waikato\, Waikato\, 2402\, New Zealand
END:VEVENT
BEGIN:VEVENT
DTSTART;VALUE=DATE:20200724
DTEND;VALUE=DATE:20200829
DTSTAMP:20260424T143508
CREATED:20200724T024051Z
LAST-MODIFIED:20200815T004144Z
UID:1636-1595548800-1598659199@taxteam.co.nz
SUMMARY:Meet us at Corner Lakewood Dr &\, Great South Road\, Manukau\, Auckland
DESCRIPTION:Come in\, meet us and have chat. \nWe are parked at outside of life Church\, opposite KFC Manukau Store.
URL:https://taxteam.co.nz/event/meet-us-at-corner-lakewood-dr-great-south-road-manukau-auckland/
LOCATION:Tax Team @ Lakewood Ct opposite KFC Manukau Store\, Corner Lakewood Dr &\, Great South\, Manukau\, Auckland\, 2104
ORGANIZER;CN="Tax Team":MAILTO:admin@taxteam.co.nz
END:VEVENT
END:VCALENDAR