BEGIN:VCALENDAR
VERSION:2.0
PRODID:-//TAX TEAM - ECPv6.15.13.1//NONSGML v1.0//EN
CALSCALE:GREGORIAN
METHOD:PUBLISH
X-WR-CALNAME:TAX TEAM
X-ORIGINAL-URL:https://taxteam.co.nz
X-WR-CALDESC:Events for TAX TEAM
REFRESH-INTERVAL;VALUE=DURATION:PT1H
X-Robots-Tag:noindex
X-PUBLISHED-TTL:PT1H
BEGIN:VTIMEZONE
TZID:UTC
BEGIN:STANDARD
TZOFFSETFROM:+0000
TZOFFSETTO:+0000
TZNAME:UTC
DTSTART:20200101T000000
END:STANDARD
END:VTIMEZONE
BEGIN:VEVENT
DTSTART;TZID=UTC:20210107T080000
DTEND;TZID=UTC:20210117T170000
DTSTAMP:20260424T125043
CREATED:20210107T002122Z
LAST-MODIFIED:20210107T002450Z
UID:1780-1610006400-1610902800@taxteam.co.nz
SUMMARY:Meet us at Fisher House at Highbrook
DESCRIPTION:
URL:https://taxteam.co.nz/event/meet-us-at-fisher-house-at-highbrook/
LOCATION:Fisher House Highbrook\, 117 Kerwyn Ave\, Highbrook\, Auckland\, New Zealand
END:VEVENT
BEGIN:VEVENT
DTSTART;VALUE=DATE:20210201
DTEND;VALUE=DATE:20210211
DTSTAMP:20260424T125043
CREATED:20210201T072704Z
LAST-MODIFIED:20210211T032659Z
UID:1791-1612137600-1613001599@taxteam.co.nz
SUMMARY:Meet us at East Tamaki
DESCRIPTION:We are at 39 Allens Road\, East Tamaki\, Auckland 2013\, outside of Total Hydraulic Services Ltd
URL:https://taxteam.co.nz/event/meet-us-at-east-tamaki/
LOCATION:Total Hydraulic Services Ltd\, 39 Allens Road\, East Tamaki\, Auckland\, Auckland\, 2013
END:VEVENT
END:VCALENDAR